BEGIN:VCALENDAR
VERSION:2.0
PRODID:-//Dyson Financial - ECPv4.9.4//NONSGML v1.0//EN
CALSCALE:GREGORIAN
METHOD:PUBLISH
X-WR-CALNAME:Dyson Financial
X-ORIGINAL-URL:http://dysonfinancial.net.au
X-WR-CALDESC:Events for Dyson Financial
BEGIN:VTIMEZONE
TZID:"UTC"
BEGIN:STANDARD
TZOFFSETFROM:+0000
TZOFFSETTO:+0000
TZNAME:UTC
DTSTART:20170101T000000
END:STANDARD
END:VTIMEZONE
BEGIN:VEVENT
DTSTART;VALUE=DATE:20170701
DTEND;VALUE=DATE:20170702
DTSTAMP:20210225T170651
CREATED:20160922T010757Z
LAST-MODIFIED:20160923T202423Z
UID:317-1498867200-1498953599@dysonfinancial.net.au
SUMMARY:Kitten Adoption Day
DESCRIPTION:I’ve done everything the Bible says — even the stuff that contradicts the other stuff! Our differences are only skin deep\, but our sames go down to the bone. And now\, in the spirit of the season: start shopping. And for every dollar of Krusty merchandise you buy\, I will be nice to a sick kid. For legal purposes\, sick kids may include hookers with a cold. And here I am using my own lungs like a sucker. What good is money if it can’t inspire terror in your fellow man? Homer no function beer well without. \n
URL:http://dysonfinancial.net.au/event/kitten-adoption-day/
LOCATION:Winchester Mystery House\, 525 S Winchester Blvd\, San Jose\, CA\, 95128\, United States
CATEGORIES:Nightlife
ORGANIZER;CN="Barney%20Stinson":MAILTO:barney@legendary.com
END:VEVENT
END:VCALENDAR