BEGIN:VCALENDAR
VERSION:2.0
PRODID:-//Dyson Financial - ECPv4.9.4//NONSGML v1.0//EN
CALSCALE:GREGORIAN
METHOD:PUBLISH
X-WR-CALNAME:Dyson Financial
X-ORIGINAL-URL:http://dysonfinancial.net.au
X-WR-CALDESC:Events for Dyson Financial
BEGIN:VTIMEZONE
TZID:"UTC"
BEGIN:STANDARD
TZOFFSETFROM:+0000
TZOFFSETTO:+0000
TZNAME:UTC
DTSTART:20170101T000000
END:STANDARD
END:VTIMEZONE
BEGIN:VEVENT
DTSTART;TZID="UTC":20170706T180000
DTEND;TZID="UTC":20170706T203000
DTSTAMP:20210225T170615
CREATED:20160922T010757Z
LAST-MODIFIED:20160923T202445Z
UID:315-1499364000-1499373000@dysonfinancial.net.au
SUMMARY:Dinner Party
DESCRIPTION:Look\, my liege! Shut up! Will you shut up?! What a strange person. But you are dressed as one… You don’t frighten us\, English pig-dogs! Go and boil your bottoms\, sons of a silly person! I blow my nose at you\, so-called Ah-thoor Keeng\, you and all your silly English K-n-n-n-n-n-n-n-niggits! The Lady of the Lake\, her arm clad in the purest shimmering samite\, held aloft Excalibur from the bosom of the water\, signifying by divine providence that I\, Arthur\, was to carry Excalibur. That is why I am your king. \n
URL:http://dysonfinancial.net.au/event/dinner-party/
LOCATION:The Corn Palace\, 601 N Main St\, Mitchell\, SD\, 57301\, United States
CATEGORIES:Meeting
ORGANIZER;CN="Mr.%20Ed":MAILTO:neigh@gmail.com
END:VEVENT
END:VCALENDAR